1.0000000000
0.0000000000
0.0000000000
-1.0000000000
662647.5000000000
4540987.5000000000
