1.0000000000
0.0000000000
0.0000000000
-1.0000000000
657390.5000000000
4540868.5000000000
