1.0000000000
0.0000000000
0.0000000000
-1.0000000000
662800.5000000000
4534048.5000000000
