1.0000000000
0.0000000000
0.0000000000
-1.0000000000
657539.5000000000
4533930.5000000000
