1.0000000000
0.0000000000
0.0000000000
-1.0000000000
589223.5000000000
4525794.5000000000
