1.0000000000
0.0000000000
0.0000000000
-1.0000000000
583956.5000000000
4525728.5000000000
