1.0000000000
0.0000000000
0.0000000000
-1.0000000000
584036.5000000000
4518790.5000000000
