1.0000000000
0.0000000000
0.0000000000
-1.0000000000
599756.5000000000
4525936.5000000000
