1.0000000000
0.0000000000
0.0000000000
-1.0000000000
594489.5000000000
4525863.5000000000
