1.0000000000
0.0000000000
0.0000000000
-1.0000000000
599850.5000000000
4518998.5000000000
