1.0000000000
0.0000000000
0.0000000000
-1.0000000000
594578.5000000000
4518925.5000000000
