1.0000000000
0.0000000000
0.0000000000
-1.0000000000
610288.5000000000
4526094.5000000000
