1.0000000000
0.0000000000
0.0000000000
-1.0000000000
610392.5000000000
4519156.5000000000
