1.0000000000
0.0000000000
0.0000000000
-1.0000000000
620821.5000000000
4526267.5000000000
