1.0000000000
0.0000000000
0.0000000000
-1.0000000000
615664.5000000000
4519241.5000000000
