1.0000000000
0.0000000000
0.0000000000
-1.0000000000
631354.5000000000
4526455.5000000000
