1.0000000000
0.0000000000
0.0000000000
-1.0000000000
631478.5000000000
4519517.5000000000
