1.0000000000
0.0000000000
0.0000000000
-1.0000000000
641888.5000000000
4526658.5000000000
