1.0000000000
0.0000000000
0.0000000000
-1.0000000000
636750.5000000000
4519617.5000000000
