1.0000000000
0.0000000000
0.0000000000
-1.0000000000
504957.5000000000
4532130.5000000000
