1.0000000000
0.0000000000
0.0000000000
-1.0000000000
515465.5000000000
4539091.5000000000
