1.0000000000
0.0000000000
0.0000000000
-1.0000000000
510208.5000000000
4539077.5000000000
