1.0000000000
0.0000000000
0.0000000000
-1.0000000000
515479.5000000000
4532153.5000000000
