1.0000000000
0.0000000000
0.0000000000
-1.0000000000
510218.5000000000
4532139.5000000000
