1.0000000000
0.0000000000
0.0000000000
-1.0000000000
525977.5000000000
4539128.5000000000
