1.0000000000
0.0000000000
0.0000000000
-1.0000000000
536490.5000000000
4539181.5000000000
