1.0000000000
0.0000000000
0.0000000000
-1.0000000000
531234.5000000000
4539153.5000000000
