1.0000000000
0.0000000000
0.0000000000
-1.0000000000
536525.5000000000
4532243.5000000000
