1.0000000000
0.0000000000
0.0000000000
-1.0000000000
531263.5000000000
4532215.5000000000
