1.0000000000
0.0000000000
0.0000000000
-1.0000000000
552259.5000000000
4539288.5000000000
