1.0000000000
0.0000000000
0.0000000000
-1.0000000000
557570.5000000000
4532393.5000000000
