1.0000000000
0.0000000000
0.0000000000
-1.0000000000
562772.5000000000
4539378.5000000000
