1.0000000000
0.0000000000
0.0000000000
-1.0000000000
573285.5000000000
4539484.5000000000
