1.0000000000
0.0000000000
0.0000000000
-1.0000000000
504962.5000000000
4525192.5000000000
