1.0000000000
0.0000000000
0.0000000000
-1.0000000000
499696.5000000000
4525186.5000000000
