1.0000000000
0.0000000000
0.0000000000
-1.0000000000
515494.5000000000
4525215.5000000000
