1.0000000000
0.0000000000
0.0000000000
-1.0000000000
510238.5000000000
4518264.5000000000
