1.0000000000
0.0000000000
0.0000000000
-1.0000000000
520780.5000000000
4518294.5000000000
