1.0000000000
0.0000000000
0.0000000000
-1.0000000000
541826.5000000000
4525337.5000000000
