1.0000000000
0.0000000000
0.0000000000
-1.0000000000
552358.5000000000
4525412.5000000000
