1.0000000000
0.0000000000
0.0000000000
-1.0000000000
557679.5000000000
4518517.5000000000
