1.0000000000
0.0000000000
0.0000000000
-1.0000000000
562891.5000000000
4525502.5000000000
