1.0000000000
0.0000000000
0.0000000000
-1.0000000000
568222.5000000000
4518615.5000000000
