1.0000000000
0.0000000000
0.0000000000
-1.0000000000
578690.5000000000
4525666.5000000000
