1.0000000000
0.0000000000
0.0000000000
-1.0000000000
573424.5000000000
4525607.5000000000
