1.0000000000
0.0000000000
0.0000000000
-1.0000000000
499696.5000000000
4504373.5000000000
