1.0000000000
0.0000000000
0.0000000000
-1.0000000000
515539.5000000000
4504401.5000000000
