1.0000000000
0.0000000000
0.0000000000
-1.0000000000
510258.5000000000
4504388.5000000000
