1.0000000000
0.0000000000
0.0000000000
-1.0000000000
520800.5000000000
4511356.5000000000
