1.0000000000
0.0000000000
0.0000000000
-1.0000000000
526101.5000000000
4504439.5000000000
